BEGIN:VCALENDAR
PRODID:-//punkave//apostrophe 1.x//EN
VERSION:1.0
TZ:0
BEGIN:VEVENT
CATEGORIES:MEETING
DTSTART:20131008T121500Z
DTEND:20131008T130000Z
DTSTAMP:20130711T002655Z
SUMMARY:Coffee with Michelle Nowacky
DESCRIPTION:Toddler Parents Coffee with Michelle Nowacky.
LOCATION:
UID:1533
END:VEVENT
END:VCALENDAR