BEGIN:VCALENDAR
PRODID:-//punkave//apostrophe 1.x//EN
VERSION:1.0
TZ:0
BEGIN:VEVENT
CATEGORIES:MEETING
DTSTART:20131009T121500Z
DTEND:20131009T130000Z
DTSTAMP:20130711T002915Z
SUMMARY:Coffee with Laura Connor
DESCRIPTION:Toddler parents coffee with Laura Connor.
LOCATION:
UID:1534
END:VEVENT
END:VCALENDAR