BEGIN:VCALENDAR
PRODID:-//punkave//apostrophe 1.x//EN
VERSION:1.0
TZ:0
BEGIN:VEVENT
CATEGORIES:MEETING
DTSTART:20131011T040000Z
DTEND:20131013T165959Z
DTSTAMP:20130711T004408Z
SUMMARY:Staff In-Service: SCHOOL CLOSED
DESCRIPTION:ADM CLOSED.
LOCATION:
UID:1538
END:VEVENT
END:VCALENDAR