BEGIN:VCALENDAR
PRODID:-//punkave//apostrophe 1.x//EN
VERSION:1.0
TZ:0
BEGIN:VEVENT
CATEGORIES:MEETING
DTSTART:20131014T040000Z
DTEND:20131016T165959Z
DTSTAMP:20130711T004513Z
SUMMARY:Columbus Day: SCHOOL CLOSED
DESCRIPTION:ADM CLOSED.
LOCATION:
UID:1539
END:VEVENT
END:VCALENDAR