BEGIN:VCALENDAR
PRODID:-//punkave//apostrophe 1.x//EN
VERSION:1.0
TZ:0
BEGIN:VEVENT
CATEGORIES:MEETING
DTSTART:20131015T040000Z
DTEND:20131123T175959Z
DTSTAMP:20130711T010600Z
SUMMARY:Parent Observations
DESCRIPTION:
LOCATION:
UID:1543
END:VEVENT
END:VCALENDAR