BEGIN:VCALENDAR
PRODID:-//punkave//apostrophe 1.x//EN
VERSION:1.0
TZ:0
BEGIN:VEVENT
CATEGORIES:MEETING
DTSTART:20131016T121500Z
DTEND:20131016T130000Z
DTSTAMP:20130711T005003Z
SUMMARY:Coffee with Anna Matsukevich
DESCRIPTION:Primary parents coffee with Anna Matsukevich.
LOCATION:
UID:1540
END:VEVENT
END:VCALENDAR