BEGIN:VCALENDAR
PRODID:-//punkave//apostrophe 1.x//EN
VERSION:1.0
TZ:0
BEGIN:VEVENT
CATEGORIES:MEETING
DTSTART:20131017T121500Z
DTEND:20131017T130000Z
DTSTAMP:20130711T005741Z
SUMMARY:Coffee with Jean Prestas
DESCRIPTION:Primary Parents coffee with Jean Prestas.
LOCATION:
UID:1541
END:VEVENT
END:VCALENDAR