BEGIN:VCALENDAR
PRODID:-//punkave//apostrophe 1.x//EN
VERSION:1.0
TZ:0
BEGIN:VEVENT
CATEGORIES:MEETING
DTSTART:20131017T121500Z
DTEND:20131017T130000Z
DTSTAMP:20130711T010504Z
SUMMARY:Coffee with Neepa Dhar
DESCRIPTION:Primary parents coffee with Neepa Dhar.
LOCATION:
UID:1542
END:VEVENT
END:VCALENDAR