BEGIN:VCALENDAR
PRODID:-//punkave//apostrophe 1.x//EN
VERSION:1.0
TZ:0
BEGIN:VEVENT
CATEGORIES:MEETING
DTSTART:20131021T220000Z
DTEND:20131022T000000Z
DTSTAMP:20130711T011000Z
SUMMARY:Board Meeting
DESCRIPTION:
LOCATION:
UID:1544
END:VEVENT
END:VCALENDAR