BEGIN:VCALENDAR
PRODID:-//punkave//apostrophe 1.x//EN
VERSION:1.0
TZ:0
BEGIN:VEVENT
CATEGORIES:MEETING
DTSTART:20131022T121500Z
DTEND:20131022T130000Z
DTSTAMP:20130711T011600Z
SUMMARY:Coffee with Katie Brown (Michelle Pysher)
DESCRIPTION:Primary parents coffee with Katie Brown.
LOCATION:
UID:1545
END:VEVENT
END:VCALENDAR