BEGIN:VCALENDAR
PRODID:-//punkave//apostrophe 1.x//EN
VERSION:1.0
TZ:0
BEGIN:VEVENT
CATEGORIES:MEETING
DTSTART:20131022T040000Z
DTEND:20131024T165959Z
DTSTAMP:20130711T012300Z
SUMMARY:Kindergarten Lunch Around the World: Mediterranean
DESCRIPTION:No lunch needed for Ms. Matsukevich\'s and Mr. Aurelien\'s K students today. Another group will go on Thursday, October 24th.
LOCATION:
UID:1546
END:VEVENT
END:VCALENDAR