BEGIN:VCALENDAR
PRODID:-//punkave//apostrophe 1.x//EN
VERSION:1.0
TZ:0
BEGIN:VEVENT
CATEGORIES:MEETING
DTSTART:20131023T223000Z
DTEND:20131024T000000Z
DTSTAMP:20130914T020400Z
SUMMARY:Admissions Open House
DESCRIPTION:Please call or email Erika Goldberg to RSVP. 215-563-6368
LOCATION:
UID:1679
END:VEVENT
END:VCALENDAR