BEGIN:VCALENDAR
PRODID:-//punkave//apostrophe 1.x//EN
VERSION:1.0
TZ:0
BEGIN:VEVENT
CATEGORIES:MEETING
DTSTART:20131024T153000Z
DTEND:20131024T163000Z
DTSTAMP:20131022T033800Z
SUMMARY:Kindergarten Lunch Around the World: Mediterranean
DESCRIPTION:No lunch needed for Mrs. Brown\'s and Ms. Prestas\' K students today.
LOCATION:
UID:1734
END:VEVENT
END:VCALENDAR