BEGIN:VCALENDAR
PRODID:-//punkave//apostrophe 1.x//EN
VERSION:1.0
TZ:0
BEGIN:VEVENT
CATEGORIES:MEETING
DTSTART:20131027T150000Z
DTEND:20131027T163000Z
DTSTAMP:20131004T030000Z
SUMMARY:GTMS West Community Open House
DESCRIPTION:Greene Towne Families and Logan Square Neighbors are invited to a Community Open House at Greene Towne Montessori School’s new West campus Sunday, October 27 11:00 am to 12:30 RSVP: 215 563-6368 or cstearns@gtms.org Please enter at the gate on Croskey Street Tours of our new Toddler and Primary classrooms will be held at 10 minute intervals. Children are welcome with parental supervision.
LOCATION:GTMS West Campus 2215 Arch St Philadelphia, PA 19103
UID:1717
END:VEVENT
END:VCALENDAR