BEGIN:VCALENDAR
PRODID:-//punkave//apostrophe 1.x//EN
VERSION:1.0
TZ:0
BEGIN:VEVENT
CATEGORIES:MEETING
DTSTART:20131029T121500Z
DTEND:20131029T130000Z
DTSTAMP:20130711T012600Z
SUMMARY:Coffee with Aurelien Dumas
DESCRIPTION:Primary parents coffee with Aurelien Dumas.
LOCATION:
UID:1547
END:VEVENT
END:VCALENDAR