BEGIN:VCALENDAR
PRODID:-//punkave//apostrophe 1.x//EN
VERSION:1.0
TZ:0
BEGIN:VEVENT
CATEGORIES:MEETING
DTSTART:20131101T213000Z
DTEND:20131101T233000Z
DTSTAMP:20130711T033500Z
SUMMARY:Fall Parent Social
DESCRIPTION:The Mildred 824 South 8th Street Philadelphia, PA 19147
LOCATION:
UID:1549
END:VEVENT
END:VCALENDAR