BEGIN:VCALENDAR
PRODID:-//punkave//apostrophe 1.x//EN
VERSION:1.0
TZ:0
BEGIN:VEVENT
CATEGORIES:MEETING
DTSTART:20131101T040000Z
DTEND:20131103T165959Z
DTSTAMP:20130711T033443Z
SUMMARY:Staff In-Service: 11:45 DISMISSAL
DESCRIPTION:No afternoon programs, ADM is in session.
LOCATION:
UID:1548
END:VEVENT
END:VCALENDAR