BEGIN:VCALENDAR
PRODID:-//punkave//apostrophe 1.x//EN
VERSION:1.0
TZ:0
BEGIN:VEVENT
CATEGORIES:MEETING
DTSTART:20131104T050000Z
DTEND:20131106T175959Z
DTSTAMP:20130711T033700Z
SUMMARY:Thanksgiving Food Drive Begins
DESCRIPTION:
LOCATION:
UID:1550
END:VEVENT
END:VCALENDAR