BEGIN:VCALENDAR
PRODID:-//punkave//apostrophe 1.x//EN
VERSION:1.0
TZ:0
BEGIN:VEVENT
CATEGORIES:MEETING
DTSTART:20131106T230000Z
DTEND:20131107T020000Z
DTSTAMP:20131016T004800Z
SUMMARY:CPR for Parents and Caregivers
DESCRIPTION:Call to RSVP! 215-563-6368.
LOCATION:
UID:1725
END:VEVENT
END:VCALENDAR