BEGIN:VCALENDAR
PRODID:-//punkave//apostrophe 1.x//EN
VERSION:1.0
TZ:0
BEGIN:VEVENT
CATEGORIES:MEETING
DTSTART:20131106T131500Z
DTEND:20131106T140000Z
DTSTAMP:20130711T033800Z
SUMMARY:Kindergarten Parent to Parent Coffee
DESCRIPTION:This coffee is for current and next year\'s K parents.
LOCATION:
UID:1551
END:VEVENT
END:VCALENDAR