BEGIN:VCALENDAR
PRODID:-//punkave//apostrophe 1.x//EN
VERSION:1.0
TZ:0
BEGIN:VEVENT
CATEGORIES:MEETING
DTSTART:20131107T131500Z
DTEND:20131107T140000Z
DTSTAMP:20131025T033400Z
SUMMARY:1st Thursday Coffee: Technology and your Child
DESCRIPTION:Please join us for a discussion with Casey Hoffman Ph.D, Psychologist at the Children’s Hospital of Philadelphia.
LOCATION:
UID:1747
END:VEVENT
END:VCALENDAR