BEGIN:VCALENDAR
PRODID:-//punkave//apostrophe 1.x//EN
VERSION:1.0
TZ:0
BEGIN:VEVENT
CATEGORIES:MEETING
DTSTART:20131108T050000Z
DTEND:20131110T175959Z
DTSTAMP:20130711T034400Z
SUMMARY:Kindergarten Lunch Around the World: French
DESCRIPTION:K students do not need to bring lunch on this day.
LOCATION:
UID:1553
END:VEVENT
END:VCALENDAR