BEGIN:VCALENDAR
PRODID:-//punkave//apostrophe 1.x//EN
VERSION:1.0
TZ:0
BEGIN:VEVENT
CATEGORIES:MEETING
DTSTART:20131112T233000Z
DTEND:20131113T013000Z
DTSTAMP:20131016T005600Z
SUMMARY:Parent Education Workshop: Brandi Davis
DESCRIPTION:Subject: Turn \"No\" into \"Yes\" Without Yelling. RSVP here:http://www.signupgenius.com/go/8050B49AFAE28A13-parent
LOCATION:
UID:1726
END:VEVENT
END:VCALENDAR