BEGIN:VCALENDAR
PRODID:-//punkave//apostrophe 1.x//EN
VERSION:1.0
TZ:0
BEGIN:VEVENT
CATEGORIES:MEETING
DTSTART:20131115T050000Z
DTEND:20131117T175959Z
DTSTAMP:20130711T034646Z
SUMMARY:Parent/Teacher Conferences: SCHOOL CLOSED
DESCRIPTION:Care available during conference time(s). ADM in session.
LOCATION:
UID:1554
END:VEVENT
END:VCALENDAR