BEGIN:VCALENDAR
PRODID:-//punkave//apostrophe 1.x//EN
VERSION:1.0
TZ:0
BEGIN:VEVENT
CATEGORIES:MEETING
DTSTART:20131122T050000Z
DTEND:20131124T175959Z
DTSTAMP:20130711T034815Z
SUMMARY:Parent/Teacher Conferences: SCHOOL CLOSED
DESCRIPTION:Care available during conference time(s). ADM in session.
LOCATION:
UID:1555
END:VEVENT
END:VCALENDAR