BEGIN:VCALENDAR
PRODID:-//punkave//apostrophe 1.x//EN
VERSION:1.0
TZ:0
BEGIN:VEVENT
CATEGORIES:MEETING
DTSTART:20131127T164500Z
DTEND:20131127T164500Z
DTSTAMP:20130711T035037Z
SUMMARY:Thanksgiving Holiday: 11:45 DISMISSAL
DESCRIPTION:Today is PAJAMA DAY! ADM is NOT in session.
LOCATION:
UID:1556
END:VEVENT
END:VCALENDAR