BEGIN:VCALENDAR
PRODID:-//punkave//apostrophe 1.x//EN
VERSION:1.0
TZ:0
BEGIN:VEVENT
CATEGORIES:MEETING
DTSTART:20131202T050000Z
DTEND:20131215T175959Z
DTSTAMP:20130711T041200Z
SUMMARY:Holiday Toy Drive
DESCRIPTION:
LOCATION:
UID:1562
END:VEVENT
END:VCALENDAR