BEGIN:VCALENDAR
PRODID:-//punkave//apostrophe 1.x//EN
VERSION:1.0
TZ:0
BEGIN:VEVENT
CATEGORIES:MEETING
DTSTART:20131203T220000Z
DTEND:20131203T230000Z
DTSTAMP:20130711T040622Z
SUMMARY:ADM Primary Parent/Child Classroom Visit (Returning Students)
DESCRIPTION:This is a special evening for second year and beyond children to bring their parents to the classroom. New (first year) children will have a visit in January.
LOCATION:
UID:1559
END:VEVENT
END:VCALENDAR