BEGIN:VCALENDAR
PRODID:-//punkave//apostrophe 1.x//EN
VERSION:1.0
TZ:0
BEGIN:VEVENT
CATEGORIES:MEETING
DTSTART:20131205T131500Z
DTEND:20131205T140000Z
DTSTAMP:20130711T040800Z
SUMMARY:1st Thursday Cofffee: Strategies to Juggle Work/Life/Parenting
DESCRIPTION:Are you feeling overscheduled? Are you craving time to yourself? With Lisa Dissinger, PhD
LOCATION:
UID:1560
END:VEVENT
END:VCALENDAR