BEGIN:VCALENDAR
PRODID:-//punkave//apostrophe 1.x//EN
VERSION:1.0
TZ:0
BEGIN:VEVENT
CATEGORIES:MEETING
DTSTART:20131206T220000Z
DTEND:20131206T220000Z
DTSTAMP:20130711T041135Z
SUMMARY:Staff Winter Party: ADM DISMISSAL 5:00pm
DESCRIPTION:
LOCATION:
UID:1561
END:VEVENT
END:VCALENDAR