BEGIN:VCALENDAR
PRODID:-//punkave//apostrophe 1.x//EN
VERSION:1.0
TZ:0
BEGIN:VEVENT
CATEGORIES:MEETING
DTSTART:20131209T230000Z
DTEND:20131210T010000Z
DTSTAMP:20130711T041543Z
SUMMARY:Board Meeting
DESCRIPTION:
LOCATION:
UID:1563
END:VEVENT
END:VCALENDAR