BEGIN:VCALENDAR
PRODID:-//punkave//apostrophe 1.x//EN
VERSION:1.0
TZ:0
BEGIN:VEVENT
CATEGORIES:MEETING
DTSTART:20131220T050000Z
DTEND:20131222T175959Z
DTSTAMP:20130711T042000Z
SUMMARY:Kindergarten Lunch Around the World: Jewish
DESCRIPTION:K students do not need to bring lunch this day.
LOCATION:
UID:1565
END:VEVENT
END:VCALENDAR