BEGIN:VCALENDAR
PRODID:-//punkave//apostrophe 1.x//EN
VERSION:1.0
TZ:0
BEGIN:VEVENT
CATEGORIES:MEETING
DTSTART:20131223T050000Z
DTEND:20140103T175959Z
DTSTAMP:20130711T042435Z
SUMMARY:Winter Break: SCHOOL CLOSED
DESCRIPTION:ADM CLOSED.
LOCATION:
UID:1566
END:VEVENT
END:VCALENDAR