BEGIN:VCALENDAR
PRODID:-//punkave//apostrophe 1.x//EN
VERSION:1.0
TZ:0
BEGIN:VEVENT
CATEGORIES:MEETING
DTSTART:20140102T050000Z
DTEND:20140105T175959Z
DTSTAMP:20130711T042626Z
SUMMARY:Winter Break: SCHOOL CLOSED
DESCRIPTION:ADM in Session.
LOCATION:
UID:1567
END:VEVENT
END:VCALENDAR