BEGIN:VCALENDAR
PRODID:-//punkave//apostrophe 1.x//EN
VERSION:1.0
TZ:0
BEGIN:VEVENT
CATEGORIES:MEETING
DTSTART:20140106T050000Z
DTEND:20140108T175959Z
DTSTAMP:20130711T042930Z
SUMMARY:Classes Resume
DESCRIPTION:
LOCATION:
UID:1568
END:VEVENT
END:VCALENDAR