BEGIN:VCALENDAR
PRODID:-//punkave//apostrophe 1.x//EN
VERSION:1.0
TZ:0
BEGIN:VEVENT
CATEGORIES:MEETING
DTSTART:20140110T050000Z
DTEND:20140112T175959Z
DTSTAMP:20130711T044000Z
SUMMARY:Kindergarten Lunch Around the World: Pakistan
DESCRIPTION:K students do not need to bring lunch this day.
LOCATION:
UID:1570
END:VEVENT
END:VCALENDAR