BEGIN:VCALENDAR
PRODID:-//punkave//apostrophe 1.x//EN
VERSION:1.0
TZ:0
BEGIN:VEVENT
CATEGORIES:MEETING
DTSTART:20140113T230000Z
DTEND:20140114T010000Z
DTSTAMP:20130711T044210Z
SUMMARY:Board Meeting
DESCRIPTION:
LOCATION:
UID:1571
END:VEVENT
END:VCALENDAR