BEGIN:VCALENDAR
PRODID:-//punkave//apostrophe 1.x//EN
VERSION:1.0
TZ:0
BEGIN:VEVENT
CATEGORIES:MEETING
DTSTART:20140114T233000Z
DTEND:20140115T013000Z
DTSTAMP:20131016T005800Z
SUMMARY:Parent Education Workshop: Estate Planning
DESCRIPTION:Estate Planning with Amy Neifeld Skedy. RSVP HERE!
LOCATION:
UID:1727
END:VEVENT
END:VCALENDAR