BEGIN:VCALENDAR
PRODID:-//punkave//apostrophe 1.x//EN
VERSION:1.0
TZ:0
BEGIN:VEVENT
CATEGORIES:MEETING
DTSTART:20140114T220000Z
DTEND:20140114T230000Z
DTSTAMP:20130711T041700Z
SUMMARY:Primary Parent/Child Classroom Visit
DESCRIPTION:This is a special evening for second year and beyond children to bring their parents to the classroom.
LOCATION:
UID:1564
END:VEVENT
END:VCALENDAR