BEGIN:VCALENDAR
PRODID:-//punkave//apostrophe 1.x//EN
VERSION:1.0
TZ:0
BEGIN:VEVENT
CATEGORIES:MEETING
DTSTART:20140117T050000Z
DTEND:20140119T175959Z
DTSTAMP:20130711T044338Z
SUMMARY:Staff In-Service: SCHOOL CLOSED
DESCRIPTION:ADM in Session.
LOCATION:
UID:1572
END:VEVENT
END:VCALENDAR