BEGIN:VCALENDAR
PRODID:-//punkave//apostrophe 1.x//EN
VERSION:1.0
TZ:0
BEGIN:VEVENT
CATEGORIES:MEETING
DTSTART:20140120T050000Z
DTEND:20140122T175959Z
DTSTAMP:20130711T044500Z
SUMMARY:Martin Luther King, Jr. Day: SCHOOL CLOSED
DESCRIPTION:Day of Service Project: Project Linus RSVP HERE if you are interested! ADM CLOSED.
LOCATION:
UID:1573
END:VEVENT
END:VCALENDAR