BEGIN:VCALENDAR
PRODID:-//punkave//apostrophe 1.x//EN
VERSION:1.0
TZ:0
BEGIN:VEVENT
CATEGORIES:MEETING
DTSTART:20140124T223000Z
DTEND:20140125T003000Z
DTSTAMP:20130711T044700Z
SUMMARY:Winter Parent Social
DESCRIPTION:At Ten Stone, 2063 South Street.
LOCATION:
UID:1574
END:VEVENT
END:VCALENDAR