BEGIN:VCALENDAR
PRODID:-//punkave//apostrophe 1.x//EN
VERSION:1.0
TZ:0
BEGIN:VEVENT
CATEGORIES:MEETING
DTSTART:20140130T050000Z
DTEND:20140201T175959Z
DTSTAMP:20130711T045100Z
SUMMARY:Picture Day (GTMS East)
DESCRIPTION:It\'s Picture Day! Make sure to get to school EARLY as we will start taking pics at 9am SHARP, or before if a class is ready to go! Toddlers and ADM students (GTMS West) will take pictures tomorrow (1/31), same time!
LOCATION:
UID:1575
END:VEVENT
END:VCALENDAR