BEGIN:VCALENDAR
PRODID:-//punkave//apostrophe 1.x//EN
VERSION:1.0
TZ:0
BEGIN:VEVENT
CATEGORIES:MEETING
DTSTART:20140131T050000Z
DTEND:20140202T175959Z
DTSTAMP:20130711T045436Z
SUMMARY:Toddler and ADM Picture Day (GTMS West)
DESCRIPTION:It\'s Picture Day! Make sure to get to school EARLY as we will start taking pics at 9am SHARP, or before if a class is ready to go! Primary students (GTMS East) took pictures pictures yesterday, 1/30.
LOCATION:
UID:1576
END:VEVENT
END:VCALENDAR