BEGIN:VCALENDAR
PRODID:-//punkave//apostrophe 1.x//EN
VERSION:1.0
TZ:0
BEGIN:VEVENT
CATEGORIES:MEETING
DTSTART:20140203T050000Z
DTEND:20140205T175959Z
DTSTAMP:20130711T050944Z
SUMMARY:Re-enrollment Due
DESCRIPTION:
LOCATION:
UID:1577
END:VEVENT
END:VCALENDAR