BEGIN:VCALENDAR
PRODID:-//punkave//apostrophe 1.x//EN
VERSION:1.0
TZ:0
BEGIN:VEVENT
CATEGORIES:MEETING
DTSTART:20140206T131500Z
DTEND:20140206T140000Z
DTSTAMP:20130711T051700Z
SUMMARY:1st Thursday Coffee: Building Self Esteem in Your Child
DESCRIPTION:Speaker: Craig Stevens Self-esteem is the foundation of a child\'s well-being and the key to success as an adult. At all ages, how you feel about yourself affects how you act. This informative conversation will provide tips on how to build your child’s self-esteem and realistic approaches to help raise self-reliant and confident children.
LOCATION:
UID:1578
END:VEVENT
END:VCALENDAR