BEGIN:VCALENDAR
PRODID:-//punkave//apostrophe 1.x//EN
VERSION:1.0
TZ:0
BEGIN:VEVENT
CATEGORIES:MEETING
DTSTART:20140207T050000Z
DTEND:20140209T175959Z
DTSTAMP:20130711T052100Z
SUMMARY:Kindergarten Lunch Around the World: Turkish
DESCRIPTION:No lunch needed for K students today.
LOCATION:
UID:1579
END:VEVENT
END:VCALENDAR