BEGIN:VCALENDAR
PRODID:-//punkave//apostrophe 1.x//EN
VERSION:1.0
TZ:0
BEGIN:VEVENT
CATEGORIES:MEETING
DTSTART:20140210T230000Z
DTEND:20140211T010000Z
DTSTAMP:20130711T052500Z
SUMMARY:Board Meeting
DESCRIPTION:
LOCATION:
UID:1580
END:VEVENT
END:VCALENDAR