BEGIN:VCALENDAR
PRODID:-//punkave//apostrophe 1.x//EN
VERSION:1.0
TZ:0
BEGIN:VEVENT
CATEGORIES:MEETING
DTSTART:20140211T131500Z
DTEND:20140211T140000Z
DTSTAMP:20130711T053015Z
SUMMARY:Coffee with Michelle Nowacky
DESCRIPTION:Toddler Parents coffee with Michelle Nowacky.
LOCATION:
UID:1581
END:VEVENT
END:VCALENDAR