BEGIN:VCALENDAR
PRODID:-//punkave//apostrophe 1.x//EN
VERSION:1.0
TZ:0
BEGIN:VEVENT
CATEGORIES:MEETING
DTSTART:20140213T131500Z
DTEND:20140213T140000Z
DTSTAMP:20130711T053616Z
SUMMARY:Coffee with Jen Wollman
DESCRIPTION:Toddler Parents coffee with Jen Wollman.
LOCATION:
UID:1583
END:VEVENT
END:VCALENDAR